BEGIN:VCALENDAR
VERSION:2.0
PRODID:-//Shelby Williams - ECPv6.15.13//NONSGML v1.0//EN
CALSCALE:GREGORIAN
METHOD:PUBLISH
X-ORIGINAL-URL:https://shelbyhwilliams.com
X-WR-CALDESC:Events for Shelby Williams
REFRESH-INTERVAL;VALUE=DURATION:PT1H
X-Robots-Tag:noindex
X-PUBLISHED-TTL:PT1H
BEGIN:VTIMEZONE
TZID:America/Chicago
BEGIN:DAYLIGHT
TZOFFSETFROM:-0600
TZOFFSETTO:-0500
TZNAME:CDT
DTSTART:20240310T080000
END:DAYLIGHT
BEGIN:STANDARD
TZOFFSETFROM:-0500
TZOFFSETTO:-0600
TZNAME:CST
DTSTART:20241103T070000
END:STANDARD
BEGIN:DAYLIGHT
TZOFFSETFROM:-0600
TZOFFSETTO:-0500
TZNAME:CDT
DTSTART:20250309T080000
END:DAYLIGHT
BEGIN:STANDARD
TZOFFSETFROM:-0500
TZOFFSETTO:-0600
TZNAME:CST
DTSTART:20251102T070000
END:STANDARD
BEGIN:DAYLIGHT
TZOFFSETFROM:-0600
TZOFFSETTO:-0500
TZNAME:CDT
DTSTART:20260308T080000
END:DAYLIGHT
BEGIN:STANDARD
TZOFFSETFROM:-0500
TZOFFSETTO:-0600
TZNAME:CST
DTSTART:20261101T070000
END:STANDARD
END:VTIMEZONE
BEGIN:VEVENT
DTSTART;TZID=America/Chicago:20251212T191500
DTEND;TZID=America/Chicago:20251212T221500
DTSTAMP:20260423T050957
CREATED:20251117T031743Z
LAST-MODIFIED:20251118T135533Z
UID:2888-1765566900-1765577700@shelbyhwilliams.com
SUMMARY:See us in Scrooge! the Musical!
DESCRIPTION:See me and my little girl as Bob Cratchit and Tiny Tim on either of the performance dates below!
URL:https://shelbyhwilliams.com/event/see-us-in-scrooge-the-musical/
LOCATION:Courtyard Theater\, 1509 H Ave\, Plano\, TX\, 75074
CATEGORIES:Community Events,Events Featuring Shelby
ATTACH;FMTTYPE=image/jpeg:https://shelbyhwilliams.com/wp-content/uploads/2025/11/scrooge-promo-square-588x493-1.jpg
END:VEVENT
END:VCALENDAR